Package: Rbec Version: 1.16.0 Command: /Library/Frameworks/R.framework/Resources/bin/R CMD build --keep-empty-dirs --no-resave-data Rbec StartedAt: 2025-10-14 07:22:35 -0400 (Tue, 14 Oct 2025) EndedAt: 2025-10-14 07:22:44 -0400 (Tue, 14 Oct 2025) EllapsedTime: 9.2 seconds RetCode: 1 Status: ERROR PackageFile: None PackageFileSize: NA