Package: RbcBook1 Version: 1.78.0 Command: /home/biocbuild/bbs-3.22-bioc/R/bin/R CMD build --keep-empty-dirs --no-resave-data --md5 RbcBook1 StartedAt: 2025-11-20 20:19:38 -0500 (Thu, 20 Nov 2025) EndedAt: 2025-11-20 20:19:47 -0500 (Thu, 20 Nov 2025) EllapsedTime: 9.0 seconds RetCode: 0 Status: OK PackageFile: RbcBook1_1.78.0.tar.gz PackageFileSize: 6.413 MiB