Package: Rarr Version: 1.8.0 Command: rm -rf Rarr.buildbin-libdir && mkdir Rarr.buildbin-libdir && /Users/biocbuild/BBS/utils/build-universal.sh Rarr_1.8.0.tar.gz /Library/Frameworks/R.framework/Resources/bin/R Rarr.buildbin-libdir StartedAt: 2025-09-27 18:57:27 -0400 (Sat, 27 Sep 2025) EndedAt: 2025-09-27 18:58:38 -0400 (Sat, 27 Sep 2025) EllapsedTime: 70.9 seconds RetCode: 0 Status: OK PackageFile: Rarr_1.8.0.tgz PackageFileSize: 1.422 MiB