Package: RankProd Version: 3.34.0 Command: E:\biocbuild\bbs-3.21-bioc\R\bin\R.exe CMD check --no-multiarch --install=check:RankProd.install-out.txt --library=E:\biocbuild\bbs-3.21-bioc\R\library --no-vignettes --timings RankProd_3.34.0.tar.gz StartedAt: 2025-08-15 05:50:48 -0400 (Fri, 15 Aug 2025) EndedAt: 2025-08-15 05:51:44 -0400 (Fri, 15 Aug 2025) EllapsedTime: 55.7 seconds RetCode: 0 Status: OK CheckDir: RankProd.Rcheck Warnings: 0