Package: RankProd Version: 3.34.0 Command: /Library/Frameworks/R.framework/Resources/bin/R CMD INSTALL RankProd StartedAt: 2025-10-13 15:08:43 -0400 (Mon, 13 Oct 2025) EndedAt: 2025-10-13 15:09:14 -0400 (Mon, 13 Oct 2025) EllapsedTime: 30.5 seconds RetCode: 0 Status: OK