Package: RankProd Version: 3.34.0 Command: /Library/Frameworks/R.framework/Resources/bin/R CMD build --keep-empty-dirs --no-resave-data RankProd StartedAt: 2025-10-13 21:50:12 -0400 (Mon, 13 Oct 2025) EndedAt: 2025-10-13 21:50:49 -0400 (Mon, 13 Oct 2025) EllapsedTime: 37.0 seconds RetCode: 0 Status: OK PackageFile: RankProd_3.34.0.tar.gz PackageFileSize: 775.9 KiB