Package: RaggedExperiment Version: 1.32.2 Command: rm -rf RaggedExperiment.buildbin-libdir && mkdir RaggedExperiment.buildbin-libdir && /Users/biocbuild/BBS/utils/build-universal.sh RaggedExperiment_1.32.2.tar.gz /Library/Frameworks/R.framework/Resources/bin/R RaggedExperiment.buildbin-libdir StartedAt: 2025-10-15 19:57:01 -0400 (Wed, 15 Oct 2025) EndedAt: 2025-10-15 19:57:32 -0400 (Wed, 15 Oct 2025) EllapsedTime: 30.6 seconds RetCode: 0 Status: OK PackageFile: RaggedExperiment_1.32.2.tgz PackageFileSize: 1.198 MiB