Package: RadioGx Version: 2.12.0 Command: /Library/Frameworks/R.framework/Resources/bin/R CMD build --keep-empty-dirs --no-resave-data RadioGx StartedAt: 2025-10-14 07:16:53 -0400 (Tue, 14 Oct 2025) EndedAt: 2025-10-14 07:18:03 -0400 (Tue, 14 Oct 2025) EllapsedTime: 69.9 seconds RetCode: 0 Status: OK PackageFile: RadioGx_2.12.0.tar.gz PackageFileSize: 2.778 MiB