Package: RVS Version: 1.31.0 Command: F:\biocbuild\bbs-3.22-bioc\R\bin\R.exe CMD INSTALL RVS StartedAt: 2025-08-14 15:36:04 -0400 (Thu, 14 Aug 2025) EndedAt: 2025-08-14 15:36:23 -0400 (Thu, 14 Aug 2025) EllapsedTime: 19.1 seconds RetCode: 0 Status: OK