Package: RUVcorr Version: 1.41.0 Command: /home/biocbuild/R/R/bin/R CMD check --install=check:RUVcorr.install-out.txt --library=/home/biocbuild/R/R/site-library --no-vignettes --timings RUVcorr_1.41.0.tar.gz StartedAt: 2025-10-17 13:06:02 -0000 (Fri, 17 Oct 2025) EndedAt: 2025-10-17 13:09:23 -0000 (Fri, 17 Oct 2025) EllapsedTime: 201.4 seconds RetCode: 0 Status: WARNINGS CheckDir: RUVcorr.Rcheck Warnings: 1