Package: RUVcorr Version: 1.42.0 Command: /home/biocbuild/bbs-3.22-bioc/R/bin/R CMD INSTALL RUVcorr StartedAt: 2025-11-10 15:17:25 -0500 (Mon, 10 Nov 2025) EndedAt: 2025-11-10 15:17:30 -0500 (Mon, 10 Nov 2025) EllapsedTime: 4.5 seconds RetCode: 0 Status: OK