Package: RUCova Version: 1.0.0 Command: /Library/Frameworks/R.framework/Resources/bin/R CMD INSTALL RUCova StartedAt: 2025-10-13 15:40:57 -0400 (Mon, 13 Oct 2025) EndedAt: 2025-10-13 15:41:54 -0400 (Mon, 13 Oct 2025) EllapsedTime: 57.1 seconds RetCode: 0 Status: OK