Package: RUCova Version: 1.0.0 Command: /Library/Frameworks/R.framework/Resources/bin/R CMD check --install=check:RUCova.install-out.txt --library=/Library/Frameworks/R.framework/Resources/library --no-vignettes --timings RUCova_1.0.0.tar.gz StartedAt: 2025-04-21 21:22:51 -0400 (Mon, 21 Apr 2025) EndedAt: 2025-04-21 21:24:14 -0400 (Mon, 21 Apr 2025) EllapsedTime: 83.0 seconds RetCode: 0 Status: OK CheckDir: RUCova.Rcheck Warnings: 0