Package: RTopper Version: 1.56.0 Command: /home/biocbuild/R/R/bin/R CMD INSTALL RTopper StartedAt: 2025-11-20 22:01:03 -0000 (Thu, 20 Nov 2025) EndedAt: 2025-11-20 22:01:12 -0000 (Thu, 20 Nov 2025) EllapsedTime: 8.8 seconds RetCode: 0 Status: OK