Package: RTopper Version: 1.56.0 Command: /home/biocbuild/R/R/bin/R CMD check --install=check:RTopper.install-out.txt --library=/home/biocbuild/R/R/site-library --no-vignettes --timings RTopper_1.56.0.tar.gz StartedAt: 2025-11-21 15:11:37 -0000 (Fri, 21 Nov 2025) EndedAt: 2025-11-21 15:13:07 -0000 (Fri, 21 Nov 2025) EllapsedTime: 89.1 seconds RetCode: 0 Status: OK CheckDir: RTopper.Rcheck Warnings: 0