Package: RTopper Version: 1.56.0 Command: /home/biocbuild/R/R/bin/R CMD build --keep-empty-dirs --no-resave-data RTopper StartedAt: 2025-11-21 05:24:53 -0000 (Fri, 21 Nov 2025) EndedAt: 2025-11-21 05:26:04 -0000 (Fri, 21 Nov 2025) EllapsedTime: 71.0 seconds RetCode: 0 Status: OK PackageFile: RTopper_1.56.0.tar.gz PackageFileSize: 1.342 MiB