Package: RTopper Version: 1.56.0 Command: /home/biocbuild/bbs-3.22-bioc/R/bin/R CMD build --keep-empty-dirs --no-resave-data --md5 RTopper StartedAt: 2025-11-20 20:34:52 -0500 (Thu, 20 Nov 2025) EndedAt: 2025-11-20 20:35:53 -0500 (Thu, 20 Nov 2025) EllapsedTime: 61.0 seconds RetCode: 0 Status: OK PackageFile: RTopper_1.56.0.tar.gz PackageFileSize: 1.349 MiB