Package: RTNduals Version: 1.32.0 Command: rm -rf RTNduals.buildbin-libdir && mkdir RTNduals.buildbin-libdir && E:\biocbuild\bbs-3.21-bioc\R\bin\R.exe CMD INSTALL --build --library=RTNduals.buildbin-libdir RTNduals_1.32.0.tar.gz StartedAt: 2025-08-15 10:10:25 -0400 (Fri, 15 Aug 2025) EndedAt: 2025-08-15 10:11:19 -0400 (Fri, 15 Aug 2025) EllapsedTime: 54.1 seconds RetCode: 0 Status: OK PackageFile: RTNduals_1.32.0.zip PackageFileSize: 744.9 KiB