Package: RTNduals Version: 1.32.0 Command: /Library/Frameworks/R.framework/Resources/bin/R CMD INSTALL RTNduals StartedAt: 2025-10-13 15:41:26 -0400 (Mon, 13 Oct 2025) EndedAt: 2025-10-13 15:42:30 -0400 (Mon, 13 Oct 2025) EllapsedTime: 64.3 seconds RetCode: 0 Status: OK