Package: RTN Version: 2.34.0 Command: /Library/Frameworks/R.framework/Resources/bin/R CMD build --keep-empty-dirs --no-resave-data RTN StartedAt: 2025-11-10 17:35:28 -0500 (Mon, 10 Nov 2025) EndedAt: 2025-11-10 17:36:36 -0500 (Mon, 10 Nov 2025) EllapsedTime: 67.8 seconds RetCode: 0 Status: OK PackageFile: RTN_2.34.0.tar.gz PackageFileSize: 10.26 MiB