Package: RTN Version: 2.34.0 Command: rm -rf RTN.buildbin-libdir && mkdir RTN.buildbin-libdir && /Users/biocbuild/BBS/utils/build-universal.sh RTN_2.34.0.tar.gz /Library/Frameworks/R.framework/Resources/bin/R RTN.buildbin-libdir StartedAt: 2025-11-10 23:34:42 -0500 (Mon, 10 Nov 2025) EndedAt: 2025-11-10 23:34:59 -0500 (Mon, 10 Nov 2025) EllapsedTime: 16.3 seconds RetCode: 0 Status: OK PackageFile: RTN_2.34.0.tgz PackageFileSize: 10.21 MiB