Package: RTCGAToolbox Version: 2.40.0 Command: /home/biocbuild/bbs-3.22-bioc/R/bin/R CMD check --install=check:RTCGAToolbox.install-out.txt --library=/home/biocbuild/bbs-3.22-bioc/R/site-library --timings RTCGAToolbox_2.40.0.tar.gz StartedAt: 2025-11-10 03:45:03 -0500 (Mon, 10 Nov 2025) EndedAt: 2025-11-10 03:48:34 -0500 (Mon, 10 Nov 2025) EllapsedTime: 211.2 seconds RetCode: 0 Status: OK CheckDir: RTCGAToolbox.Rcheck Warnings: 0