Package: RTCGAToolbox Version: 2.40.0 Command: /Library/Frameworks/R.framework/Resources/bin/R CMD INSTALL RTCGAToolbox StartedAt: 2025-11-03 15:42:54 -0500 (Mon, 03 Nov 2025) EndedAt: 2025-11-03 15:43:29 -0500 (Mon, 03 Nov 2025) EllapsedTime: 35.5 seconds RetCode: 0 Status: OK