Package: RTCGAToolbox Version: 2.40.0 Command: /Library/Frameworks/R.framework/Resources/bin/R CMD INSTALL RTCGAToolbox StartedAt: 2025-11-09 15:22:56 -0500 (Sun, 09 Nov 2025) EndedAt: 2025-11-09 15:23:06 -0500 (Sun, 09 Nov 2025) EllapsedTime: 9.9 seconds RetCode: 0 Status: OK