Package: RTCGAToolbox Version: 2.40.0 Command: /Library/Frameworks/R.framework/Resources/bin/R CMD build --keep-empty-dirs --no-resave-data RTCGAToolbox StartedAt: 2025-11-09 17:36:55 -0500 (Sun, 09 Nov 2025) EndedAt: 2025-11-09 17:37:15 -0500 (Sun, 09 Nov 2025) EllapsedTime: 19.2 seconds RetCode: 0 Status: OK PackageFile: RTCGAToolbox_2.40.0.tar.gz PackageFileSize: 2.33 MiB