Package: RTCA Version: 1.62.0 Command: /home/biocbuild/R/R/bin/R CMD INSTALL RTCA StartedAt: 2025-11-17 21:17:41 -0000 (Mon, 17 Nov 2025) EndedAt: 2025-11-17 21:17:48 -0000 (Mon, 17 Nov 2025) EllapsedTime: 7.4 seconds RetCode: 0 Status: OK