Package: RTCA Version: 1.62.0 Command: /home/biocbuild/R/R/bin/R CMD build --keep-empty-dirs --no-resave-data RTCA StartedAt: 2025-11-18 04:39:13 -0000 (Tue, 18 Nov 2025) EndedAt: 2025-11-18 04:39:27 -0000 (Tue, 18 Nov 2025) EllapsedTime: 14.0 seconds RetCode: 0 Status: OK PackageFile: RTCA_1.62.0.tar.gz PackageFileSize: 330.2 KiB