Package: RTCA Version: 1.62.0 Command: /home/biocbuild/bbs-3.22-bioc/R/bin/R CMD check --install=check:RTCA.install-out.txt --library=/home/biocbuild/bbs-3.22-bioc/R/site-library --timings RTCA_1.62.0.tar.gz StartedAt: 2025-11-18 08:00:45 -0500 (Tue, 18 Nov 2025) EndedAt: 2025-11-18 08:01:24 -0500 (Tue, 18 Nov 2025) EllapsedTime: 39.1 seconds RetCode: 0 Status: WARNINGS CheckDir: RTCA.Rcheck Warnings: 1