Package: RTCA Version: 1.62.0 Command: /Library/Frameworks/R.framework/Resources/bin/R CMD check --install=check:RTCA.install-out.txt --library=/Library/Frameworks/R.framework/Resources/library --no-vignettes --timings RTCA_1.62.0.tar.gz StartedAt: 2025-11-18 13:27:59 -0500 (Tue, 18 Nov 2025) EndedAt: 2025-11-18 13:30:08 -0500 (Tue, 18 Nov 2025) EllapsedTime: 129.6 seconds RetCode: 0 Status: WARNINGS CheckDir: RTCA.Rcheck Warnings: 1