Package: RTCA Version: 1.62.0 Command: /Library/Frameworks/R.framework/Resources/bin/R CMD build --keep-empty-dirs --no-resave-data RTCA StartedAt: 2025-11-03 18:33:32 -0500 (Mon, 03 Nov 2025) EndedAt: 2025-11-03 18:33:51 -0500 (Mon, 03 Nov 2025) EllapsedTime: 19.4 seconds RetCode: 0 Status: OK PackageFile: RTCA_1.62.0.tar.gz PackageFileSize: 334.2 KiB