Package: RTCA Version: 1.62.0 Command: rm -rf RTCA.buildbin-libdir && mkdir RTCA.buildbin-libdir && /Users/biocbuild/BBS/utils/build-universal.sh RTCA_1.62.0.tar.gz /Library/Frameworks/R.framework/Resources/bin/R RTCA.buildbin-libdir StartedAt: 2025-11-04 02:01:01 -0500 (Tue, 04 Nov 2025) EndedAt: 2025-11-04 02:01:14 -0500 (Tue, 04 Nov 2025) EllapsedTime: 12.7 seconds RetCode: 0 Status: OK PackageFile: RTCA_1.62.0.tgz PackageFileSize: 594.5 KiB