Package: RTCA Version: 1.62.0 Command: /Library/Frameworks/R.framework/Resources/bin/R CMD check --install=check:RTCA.install-out.txt --library=/Library/Frameworks/R.framework/Resources/library --no-vignettes --timings RTCA_1.62.0.tar.gz StartedAt: 2025-11-18 12:10:40 -0500 (Tue, 18 Nov 2025) EndedAt: 2025-11-18 12:11:00 -0500 (Tue, 18 Nov 2025) EllapsedTime: 20.2 seconds RetCode: 0 Status: WARNINGS CheckDir: RTCA.Rcheck Warnings: 1