Package: RTCA Version: 1.62.0 Command: rm -rf RTCA.buildbin-libdir && mkdir RTCA.buildbin-libdir && /Users/biocbuild/BBS/utils/build-universal.sh RTCA_1.62.0.tar.gz /Library/Frameworks/R.framework/Resources/bin/R RTCA.buildbin-libdir StartedAt: 2025-11-18 16:18:31 -0500 (Tue, 18 Nov 2025) EndedAt: 2025-11-18 16:18:35 -0500 (Tue, 18 Nov 2025) EllapsedTime: 4.1 seconds RetCode: 0 Status: OK PackageFile: RTCA_1.62.0.tgz PackageFileSize: 596.5 KiB