Package: RTCA Version: 1.62.0 Maintainer: Jitao David Zhang MaintainerEmail: davidvonpku at gmail.com git_url: https://git.bioconductor.org/packages/RTCA git_branch: RELEASE_3_22 git_last_commit: decee48 git_last_commit_date: 2025-10-29 10:03:37 -0500 (Wed, 29 Oct 2025)