Package: RPA Version: 1.66.0 Command: /home/biocbuild/R/R/bin/R CMD build --keep-empty-dirs --no-resave-data RPA StartedAt: 2025-11-14 04:50:31 -0000 (Fri, 14 Nov 2025) EndedAt: 2025-11-14 04:51:01 -0000 (Fri, 14 Nov 2025) EllapsedTime: 30.0 seconds RetCode: 0 Status: OK PackageFile: RPA_1.66.0.tar.gz PackageFileSize: 284.7 KiB