Package: RPA Version: 1.65.0 Command: F:\biocbuild\bbs-3.22-bioc\R\bin\R.exe CMD check --no-multiarch --install=check:RPA.install-out.txt --library=F:\biocbuild\bbs-3.22-bioc\R\library --no-vignettes --timings RPA_1.65.0.tar.gz StartedAt: 2025-08-15 07:16:16 -0400 (Fri, 15 Aug 2025) EndedAt: 2025-08-15 07:19:19 -0400 (Fri, 15 Aug 2025) EllapsedTime: 183.2 seconds RetCode: 0 Status: OK CheckDir: RPA.Rcheck Warnings: 0