Package: RPA Version: 1.66.0 Command: /home/biocbuild/bbs-3.22-bioc/R/bin/R CMD check --install=check:RPA.install-out.txt --library=/home/biocbuild/bbs-3.22-bioc/R/site-library --timings RPA_1.66.0.tar.gz StartedAt: 2025-11-17 03:37:21 -0500 (Mon, 17 Nov 2025) EndedAt: 2025-11-17 03:39:48 -0500 (Mon, 17 Nov 2025) EllapsedTime: 147.1 seconds RetCode: 0 Status: OK CheckDir: RPA.Rcheck Warnings: 0