Package: RPA Version: 1.66.0 Command: /Library/Frameworks/R.framework/Resources/bin/R CMD build --keep-empty-dirs --no-resave-data RPA StartedAt: 2025-11-03 18:32:11 -0500 (Mon, 03 Nov 2025) EndedAt: 2025-11-03 18:32:43 -0500 (Mon, 03 Nov 2025) EllapsedTime: 32.1 seconds RetCode: 0 Status: OK PackageFile: RPA_1.66.0.tar.gz PackageFileSize: 260.5 KiB