Package: ROntoTools Version: 2.36.0 Command: /Library/Frameworks/R.framework/Resources/bin/R CMD check --install=check:ROntoTools.install-out.txt --library=/Library/Frameworks/R.framework/Resources/library --no-vignettes --timings ROntoTools_2.36.0.tar.gz StartedAt: 2025-10-01 10:22:14 -0400 (Wed, 01 Oct 2025) EndedAt: 2025-10-01 10:25:10 -0400 (Wed, 01 Oct 2025) EllapsedTime: 176.3 seconds RetCode: 0 Status: WARNINGS CheckDir: ROntoTools.Rcheck Warnings: 1