Package: ROntoTools Version: 2.36.0 Command: /Library/Frameworks/R.framework/Resources/bin/R CMD build --keep-empty-dirs --no-resave-data ROntoTools StartedAt: 2025-09-30 08:04:59 -0400 (Tue, 30 Sep 2025) EndedAt: 2025-09-30 08:05:51 -0400 (Tue, 30 Sep 2025) EllapsedTime: 51.8 seconds RetCode: 0 Status: OK PackageFile: ROntoTools_2.36.0.tar.gz PackageFileSize: 1.487 MiB