Package: ROTS Version: 2.0.0 Command: E:\biocbuild\bbs-3.21-bioc\R\bin\R.exe CMD check --no-multiarch --install=check:ROTS.install-out.txt --library=E:\biocbuild\bbs-3.21-bioc\R\library --no-vignettes --timings ROTS_2.0.0.tar.gz StartedAt: 2025-08-15 06:18:39 -0400 (Fri, 15 Aug 2025) EndedAt: 2025-08-15 06:20:22 -0400 (Fri, 15 Aug 2025) EllapsedTime: 103.4 seconds RetCode: 0 Status: OK CheckDir: ROTS.Rcheck Warnings: 0