Package: ROTS Version: 2.0.0 Command: rm -rf ROTS.buildbin-libdir && mkdir ROTS.buildbin-libdir && E:\biocbuild\bbs-3.21-bioc\R\bin\R.exe CMD INSTALL --build --library=ROTS.buildbin-libdir ROTS_2.0.0.tar.gz StartedAt: 2025-08-15 10:09:12 -0400 (Fri, 15 Aug 2025) EndedAt: 2025-08-15 10:09:42 -0400 (Fri, 15 Aug 2025) EllapsedTime: 29.1 seconds RetCode: 0 Status: OK PackageFile: ROTS_2.0.0.zip PackageFileSize: 782.4 KiB