Package: RNAseqCovarImpute Version: 1.7.0 Command: rm -rf RNAseqCovarImpute.buildbin-libdir && mkdir RNAseqCovarImpute.buildbin-libdir && F:\biocbuild\bbs-3.22-bioc\R\bin\R.exe CMD INSTALL --build --library=RNAseqCovarImpute.buildbin-libdir RNAseqCovarImpute_1.7.0.tar.gz StartedAt: 2025-08-15 11:09:59 -0400 (Fri, 15 Aug 2025) EndedAt: 2025-08-15 11:10:30 -0400 (Fri, 15 Aug 2025) EllapsedTime: 30.6 seconds RetCode: 0 Status: OK PackageFile: RNAseqCovarImpute_1.7.0.zip PackageFileSize: 809.3 KiB