Package: RNASeqPower Version: 1.50.0 Command: /home/biocbuild/R/R/bin/R CMD build --keep-empty-dirs --no-resave-data RNASeqPower StartedAt: 2025-11-14 04:47:15 -0000 (Fri, 14 Nov 2025) EndedAt: 2025-11-14 04:47:19 -0000 (Fri, 14 Nov 2025) EllapsedTime: 4.0 seconds RetCode: 0 Status: OK PackageFile: RNASeqPower_1.50.0.tar.gz PackageFileSize: 181.8 KiB