Package: RNASeqPower Version: 1.50.0 Command: /Library/Frameworks/R.framework/Resources/bin/R CMD build --keep-empty-dirs --no-resave-data RNASeqPower StartedAt: 2025-11-03 18:31:05 -0500 (Mon, 03 Nov 2025) EndedAt: 2025-11-03 18:31:15 -0500 (Mon, 03 Nov 2025) EllapsedTime: 9.1 seconds RetCode: 0 Status: OK PackageFile: RNASeqPower_1.50.0.tar.gz PackageFileSize: 191 KiB