Package: RNASeqPower Version: 1.50.0 Command: rm -rf RNASeqPower.buildbin-libdir && mkdir RNASeqPower.buildbin-libdir && /Users/biocbuild/BBS/utils/build-universal.sh RNASeqPower_1.50.0.tar.gz /Library/Frameworks/R.framework/Resources/bin/R RNASeqPower.buildbin-libdir StartedAt: 2025-11-04 02:00:12 -0500 (Tue, 04 Nov 2025) EndedAt: 2025-11-04 02:00:17 -0500 (Tue, 04 Nov 2025) EllapsedTime: 5.8 seconds RetCode: 0 Status: OK PackageFile: RNASeqPower_1.50.0.tgz PackageFileSize: 198.5 KiB