Package: RNASeqPower Version: 1.50.0 Command: /Library/Frameworks/R.framework/Resources/bin/R CMD INSTALL RNASeqPower StartedAt: 2025-11-06 15:01:23 -0500 (Thu, 06 Nov 2025) EndedAt: 2025-11-06 15:01:27 -0500 (Thu, 06 Nov 2025) EllapsedTime: 4.3 seconds RetCode: 0 Status: OK