Package: RNASeqPower Version: 1.50.0 Command: /Library/Frameworks/R.framework/Resources/bin/R CMD check --install=check:RNASeqPower.install-out.txt --library=/Library/Frameworks/R.framework/Resources/library --no-vignettes --timings RNASeqPower_1.50.0.tar.gz StartedAt: 2025-11-06 21:45:38 -0500 (Thu, 06 Nov 2025) EndedAt: 2025-11-06 21:45:49 -0500 (Thu, 06 Nov 2025) EllapsedTime: 11.2 seconds RetCode: 0 Status: OK CheckDir: RNASeqPower.Rcheck Warnings: 0