Package: RMassBank Version: 3.18.0 Command: /home/biocbuild/bbs-3.21-bioc/R/bin/R CMD build --keep-empty-dirs --no-resave-data RMassBank StartedAt: 2025-10-15 19:31:01 -0400 (Wed, 15 Oct 2025) EndedAt: 2025-10-15 19:38:06 -0400 (Wed, 15 Oct 2025) EllapsedTime: 424.4 seconds RetCode: 0 Status: OK PackageFile: RMassBank_3.18.0.tar.gz PackageFileSize: 1.844 MiB