Package: RMassBank Version: 3.18.0 Command: /home/biocbuild/R/R/bin/R CMD build --keep-empty-dirs --no-resave-data RMassBank StartedAt: 2025-10-14 04:05:58 -0000 (Tue, 14 Oct 2025) EndedAt: 2025-10-14 04:17:12 -0000 (Tue, 14 Oct 2025) EllapsedTime: 674.4 seconds RetCode: 0 Status: OK PackageFile: RMassBank_3.18.0.tar.gz PackageFileSize: 1.902 MiB